BEGIN:VCALENDAR
VERSION:2.0
PRODID:-//Effatha le Mashiah - ECPv5.1.5//NONSGML v1.0//EN
CALSCALE:GREGORIAN
METHOD:PUBLISH
X-WR-CALNAME:Effatha le Mashiah
X-ORIGINAL-URL:http://effathabemowo.pl
X-WR-CALDESC:Events for Effatha le Mashiah
BEGIN:VTIMEZONE
TZID:Europe/Paris
BEGIN:DAYLIGHT
TZOFFSETFROM:+0100
TZOFFSETTO:+0200
TZNAME:CEST
DTSTART:20200329T010000
END:DAYLIGHT
BEGIN:STANDARD
TZOFFSETFROM:+0200
TZOFFSETTO:+0100
TZNAME:CET
DTSTART:20201025T010000
END:STANDARD
END:VTIMEZONE
BEGIN:VEVENT
DTSTART;TZID=Europe/Paris:20200121T190000
DTEND;TZID=Europe/Paris:20200121T213000
DTSTAMP:20260424T113719
CREATED:20200113T122538Z
LAST-MODIFIED:20200113T122538Z
UID:255-1579633200-1579642200@effathabemowo.pl
SUMMARY:Spotkanie Wspólnoty
DESCRIPTION:Regularne\, cotygodniowe spotkanie formacyjne w salce przy Kościele św. Jana Pawła II na warszawskim Bemowie. \nSchemat spotkania: \n19.15 – rozpoczęcie\n19.30 – nauczanie\n20.00 – modlitwa wspólnotowa / uwielbienie\n21.00 – wspólna agapa \n
URL:http://effathabemowo.pl/event/spotkanie-wspolnoty-8/
LOCATION:Parafia św. Jana Pawła II Warszawa-Bemowo\, ul. Obrońców Tobruku 48\, Warszawa\, Poland
CATEGORIES:Spotkania Wspólnoty Effatha
ATTACH;FMTTYPE=image/jpeg:http://effathabemowo.pl/wp-content/uploads/2019/08/wspolnota3.jpg
ORGANIZER;CN="SE%20EFFATHA%20WARSZAWA":MAILTO:effathalm@gmail.com
END:VEVENT
END:VCALENDAR